BEGIN:VCALENDAR
VERSION:2.0
PRODID:-//https://denbighchristianacademy.com//NONSGML kigkonsult.se iCalcr
 eator 2.29.29//
CALSCALE:GREGORIAN
METHOD:PUBLISH
UID:b181fcee-cf8a-4fb3-897e-81247bcd8632
X-WR-CALNAME:JCal Pro Calendar
X-WR-CALDESC:Your online events calendar
X-WR-TIMEZONE:UTC
BEGIN:VTIMEZONE
TZID:UTC
END:VTIMEZONE
BEGIN:VEVENT
UID:20231004T060000UTC-45007Xzsoz@https://www.denbighchristianacademy.com/
DTSTAMP:20260425T110643Z
CATEGORIES:DCA Events
DESCRIPTION:First Interim Reports issued for 4K and 5K.
DTSTART:20231004T000000Z
DTEND:20231004T235959Z
SUMMARY:1st Interim Reports issued (4K-5K)
URL:https://denbighchristianacademy.com/index.php/school-calendar/dca-event
 s/11-dca-events/1179-1st-interim-reports-issued-4k-5k
X-ALT-DESC;FMTTYPE=TEXT/HTML:First Interim Reports issued for 4K and 5K.
END:VEVENT
END:VCALENDAR
