BEGIN:VCALENDAR
VERSION:2.0
PRODID:-//https://denbighchristianacademy.com//NONSGML kigkonsult.se iCalcr
 eator 2.29.29//
CALSCALE:GREGORIAN
METHOD:PUBLISH
UID:9d3ce858-bd20-4c9f-8c30-48c7878ee674
X-WR-CALNAME:JCal Pro Calendar
X-WR-CALDESC:Your online events calendar
X-WR-TIMEZONE:UTC
BEGIN:VTIMEZONE
TZID:UTC
END:VTIMEZONE
BEGIN:VEVENT
UID:20231103T150000UTC-0175S0nILO@https://www.denbighchristianacademy.com/
DTSTAMP:20260425T110751Z
CATEGORIES:DCA Events
DESCRIPTION:The First Marking Period reports will be sent home today with 4
 K and 5K.
DTSTART:20231101T000000Z
DTEND:20231101T235959Z
SUMMARY:1st Marking Period Reports issued (4K-5K)
URL:https://denbighchristianacademy.com/index.php/school-calendar/dca-event
 s/11-dca-events/1186-1st-marking-period-reports-issued-4k-5k
X-ALT-DESC;FMTTYPE=TEXT/HTML:The First Marking Period reports will be sent 
 home today with 4K and 5K.
END:VEVENT
END:VCALENDAR
