BEGIN:VCALENDAR
VERSION:2.0
PRODID:-//https://denbighchristianacademy.com//NONSGML kigkonsult.se iCalcr
 eator 2.29.29//
CALSCALE:GREGORIAN
METHOD:PUBLISH
UID:3cf55456-45ef-4417-ac08-abfd6c794a8a
X-WR-CALNAME:JCal Pro Calendar
X-WR-CALDESC:Your online events calendar
X-WR-TIMEZONE:UTC
BEGIN:VTIMEZONE
TZID:UTC
END:VTIMEZONE
BEGIN:VEVENT
UID:20240415T060000UTC-6911vMRRbF@https://www.denbighchristianacademy.com/
DTSTAMP:20260425T025445Z
CATEGORIES:DCA Events
DESCRIPTION:<p>All 2 to 2 1/2 year old students will have their photo taken
  today beginning at 8:30 am.</p>
DTSTART:20240415T083000Z
DTEND:20240415T103000Z
SUMMARY:2 - 2 1/2 Year Old Picture Day - 8:30 a.m.
URL:https://denbighchristianacademy.com/index.php/school-calendar/dca-event
 s/11-dca-events/1212-2-2-1-2-year-old-photo-day-8-30-a-m
X-ALT-DESC;FMTTYPE=TEXT/HTML:<p>All 2 to 2 1/2 year old students will have 
 their photo taken today beginning at 8:30 am.</p>
END:VEVENT
END:VCALENDAR
