BEGIN:VCALENDAR
VERSION:2.0
PRODID:-//https://denbighchristianacademy.com//NONSGML kigkonsult.se iCalcr
 eator 2.29.29//
CALSCALE:GREGORIAN
METHOD:PUBLISH
UID:830caf80-daf3-4a01-8def-2b36d87f7935
X-WR-CALNAME:JCal Pro Calendar
X-WR-CALDESC:Your online events calendar
X-WR-TIMEZONE:UTC
BEGIN:VTIMEZONE
TZID:UTC
END:VTIMEZONE
BEGIN:VEVENT
UID:20240527T060000UTC-3074TkZ6cr@https://www.denbighchristianacademy.com/
DTSTAMP:20260425T012302Z
CATEGORIES:DCA Events
DESCRIPTION:<p>All of DCA will be CLOSED for Memorial Day.</p>
DTSTART:20240527T000000Z
DTEND:20240527T235959Z
SUMMARY:Memorial Day - All of DCA CLOSED
URL:https://denbighchristianacademy.com/index.php/school-calendar/dca-event
 s/11-dca-events/1221-memorial-day-all-of-dca-closed
X-ALT-DESC;FMTTYPE=TEXT/HTML:<p>All of DCA will be CLOSED for Memorial Day.
 </p>
END:VEVENT
END:VCALENDAR
