BEGIN:VCALENDAR
VERSION:2.0
PRODID:-//https://denbighchristianacademy.com//NONSGML kigkonsult.se iCalcr
 eator 2.29.29//
CALSCALE:GREGORIAN
METHOD:PUBLISH
UID:5b3de94a-5ff6-4547-bd2d-8cba1b1345b9
X-WR-CALNAME:JCal Pro Calendar
X-WR-CALDESC:Your online events calendar
X-WR-TIMEZONE:UTC
BEGIN:VTIMEZONE
TZID:UTC
END:VTIMEZONE
BEGIN:VEVENT
UID:20191122T180000UTC-2803d7eZoa@http://dca.37west.com/
DTSTAMP:20260426T013806Z
CATEGORIES:DCA Events
DTSTART:20191122T000000Z
DTEND:20191122T235959Z
SUMMARY:Crazy Sock Day
URL:https://denbighchristianacademy.com/index.php/school-calendar/dca-event
 s/11-dca-events/14-crazy-sock-day
END:VEVENT
END:VCALENDAR
