BEGIN:VCALENDAR
VERSION:2.0
PRODID:-//https://denbighchristianacademy.com//NONSGML kigkonsult.se iCalcr
 eator 2.29.29//
CALSCALE:GREGORIAN
METHOD:PUBLISH
UID:19635d2e-aa6f-4974-a448-1ef8939ba46a
X-WR-CALNAME:JCal Pro Calendar
X-WR-CALDESC:Your online events calendar
X-WR-TIMEZONE:UTC
BEGIN:VTIMEZONE
TZID:UTC
END:VTIMEZONE
BEGIN:VEVENT
UID:20240902T130000UTC-1839tOGhP0@https://www.denbighchristianacademy.com/
DTSTAMP:20260424T180915Z
CATEGORIES:DCA Events
DESCRIPTION:<p>All of DCA is CLOSED for Labor Day.</p>
DTSTART:20240902T000000Z
DTEND:20240902T235959Z
SUMMARY:Labor Day - All of DCA CLOSED
URL:https://denbighchristianacademy.com/index.php/school-calendar/dca-event
 s/11-dca-events/1535-labor-day-all-of-dca-closed
X-ALT-DESC;FMTTYPE=TEXT/HTML:<p>All of DCA is CLOSED for Labor Day.</p>
END:VEVENT
END:VCALENDAR
