BEGIN:VCALENDAR
VERSION:2.0
PRODID:-//https://denbighchristianacademy.com//NONSGML kigkonsult.se iCalcr
 eator 2.29.29//
CALSCALE:GREGORIAN
METHOD:PUBLISH
UID:da4201ff-5a5f-4ab0-bcef-f7904c4c4cf6
X-WR-CALNAME:JCal Pro Calendar
X-WR-CALDESC:Your online events calendar
X-WR-TIMEZONE:UTC
BEGIN:VTIMEZONE
TZID:UTC
END:VTIMEZONE
BEGIN:VEVENT
UID:20241106T140000UTC-8581Hvctk6@https://www.denbighchristianacademy.com/
DTSTAMP:20260424T181946Z
CATEGORIES:DCA Events
DESCRIPTION:<p>First Marking Period reports issed for 4k and 5k. Please sig
 n and return.</p>
DTSTART:20241106T000000Z
DTEND:20241106T235959Z
SUMMARY:First Marking Period Reports issued (4k-5k)
URL:https://denbighchristianacademy.com/index.php/school-calendar/dca-event
 s/11-dca-events/1545-first-marking-period-reports-issued-4k-5k
X-ALT-DESC;FMTTYPE=TEXT/HTML:<p>First Marking Period reports issed for 4k a
 nd 5k. Please sign and return.</p>
END:VEVENT
END:VCALENDAR
