BEGIN:VCALENDAR
VERSION:2.0
PRODID:-//https://denbighchristianacademy.com//NONSGML kigkonsult.se iCalcr
 eator 2.29.29//
CALSCALE:GREGORIAN
METHOD:PUBLISH
UID:e832a1ac-80be-4f5d-aaee-505fe47be6ea
X-WR-CALNAME:JCal Pro Calendar
X-WR-CALDESC:Your online events calendar
X-WR-TIMEZONE:UTC
BEGIN:VTIMEZONE
TZID:UTC
END:VTIMEZONE
BEGIN:VEVENT
UID:20250416T083000UTC-99780ZUOVb@https://www.denbighchristianacademy.com/
DTSTAMP:20260424T072751Z
CATEGORIES:DCA Events
DESCRIPTION:<p>Spring and Class pictures will be taken today for 4k and 5k 
 and also Cap and Gown pictures for 5k.</p>
DTSTART:20250416T083000Z
DTEND:20250416T113000Z
SUMMARY:Spring & Class Pictures for 4k\, & Cap & Gown also for 5K
URL:https://denbighchristianacademy.com/index.php/school-calendar/dca-event
 s/11-dca-events/1573-spring-class-pictures-for-4k-cap-gown-also-for-5k
X-ALT-DESC;FMTTYPE=TEXT/HTML:<p>Spring and Class pictures will be taken tod
 ay for 4k and 5k and also Cap and Gown pictures for 5k.</p>
END:VEVENT
END:VCALENDAR
