BEGIN:VCALENDAR
VERSION:2.0
PRODID:-//https://denbighchristianacademy.com//NONSGML kigkonsult.se iCalcr
 eator 2.29.29//
CALSCALE:GREGORIAN
METHOD:PUBLISH
UID:d49afd41-46cf-4d4d-a5f2-a1fa3b11fc88
X-WR-CALNAME:JCal Pro Calendar
X-WR-CALDESC:Your online events calendar
X-WR-TIMEZONE:UTC
BEGIN:VTIMEZONE
TZID:UTC
END:VTIMEZONE
BEGIN:VEVENT
UID:20250516T160000UTC-8233vakbJh@https://www.denbighchristianacademy.com/
DTSTAMP:20260424T072757Z
CATEGORIES:DCA Events
DESCRIPTION:<p>Summer Fun Day is a day where their class will celebrate sum
 mer and do some fun things.</p>
DTSTART:20250516T000000Z
DTEND:20250516T235959Z
SUMMARY:Summer Fun Day (Spirit Day)
URL:https://denbighchristianacademy.com/index.php/school-calendar/dca-event
 s/11-dca-events/1580-summer-fun-day-spirit-day
X-ALT-DESC;FMTTYPE=TEXT/HTML:<p>Summer Fun Day is a day where their class w
 ill celebrate summer and do some fun things.</p>
END:VEVENT
END:VCALENDAR
