BEGIN:VCALENDAR
VERSION:2.0
PRODID:-//https://denbighchristianacademy.com//NONSGML kigkonsult.se iCalcr
 eator 2.29.29//
CALSCALE:GREGORIAN
METHOD:PUBLISH
UID:acf5bf4f-3888-4398-851a-b3b29edc413c
X-WR-CALNAME:JCal Pro Calendar
X-WR-CALDESC:Your online events calendar
X-WR-TIMEZONE:UTC
BEGIN:VTIMEZONE
TZID:UTC
END:VTIMEZONE
BEGIN:VEVENT
UID:20200117T190000UTC-2752UhJNrO@http://dca.37west.com/
DTSTAMP:20260424T040534Z
CATEGORIES:DCA Events
DTSTART:20200117T000000Z
DTEND:20200117T235959Z
SUMMARY:Second Marking Period ends (45 days) (4K-5K)
URL:https://denbighchristianacademy.com/index.php/school-calendar/dca-event
 s/11-dca-events/23-second-marking-period-ends-45-days-4k-5k
END:VEVENT
END:VCALENDAR
