BEGIN:VCALENDAR
VERSION:2.0
PRODID:-//https://denbighchristianacademy.com//NONSGML kigkonsult.se iCalcr
 eator 2.29.29//
CALSCALE:GREGORIAN
METHOD:PUBLISH
UID:2a4c2569-dd78-4df9-b985-8a080ddd82dd
X-WR-CALNAME:JCal Pro Calendar
X-WR-CALDESC:Your online events calendar
X-WR-TIMEZONE:UTC
BEGIN:VTIMEZONE
TZID:UTC
END:VTIMEZONE
BEGIN:VEVENT
UID:20200422T083000UTC-3942NB44wz@http://dca.37west.com/
DTSTAMP:20260424T041654Z
CATEGORIES:DCA Events
DTSTART:20200422T000000Z
DTEND:20200422T235959Z
SUMMARY:Cancelled - 4K & 5K Spring Pictures & Class Pictures & 5K Cap & Gow
 n
URL:https://denbighchristianacademy.com/index.php/school-calendar/dca-event
 s/11-dca-events/47-4k-5k-spring-pictures-and-class-pictures-5k-cap-gown-st
 arts-8-30-am
END:VEVENT
END:VCALENDAR
