BEGIN:VCALENDAR
VERSION:2.0
PRODID:-//https://denbighchristianacademy.com//NONSGML kigkonsult.se iCalcr
 eator 2.29.29//
CALSCALE:GREGORIAN
METHOD:PUBLISH
UID:64b753cd-2035-4676-94d8-6535de5fd98a
X-WR-CALNAME:JCal Pro Calendar
X-WR-CALDESC:Your online events calendar
X-WR-TIMEZONE:UTC
BEGIN:VTIMEZONE
TZID:UTC
END:VTIMEZONE
BEGIN:VEVENT
UID:20220103T180000UTC-14250xgWLg@http://www.denbighchristianacademy.com/
DTSTAMP:20260425T162651Z
CATEGORIES:DCA Events
DESCRIPTION:<p>DCA re-opens today at 6:00 a.m.</p>
DTSTART:20220103T000000Z
DTEND:20220103T235959Z
SUMMARY:School Re-opens Today
URL:https://denbighchristianacademy.com/index.php/school-calendar/dca-event
 s/11-dca-events/657-school-re-opens-today
X-ALT-DESC;FMTTYPE=TEXT/HTML:<p>DCA re-opens today at 6:00 a.m.</p>
END:VEVENT
END:VCALENDAR
