BEGIN:VCALENDAR
VERSION:2.0
PRODID:-//https://denbighchristianacademy.com//NONSGML kigkonsult.se iCalcr
 eator 2.29.29//
CALSCALE:GREGORIAN
METHOD:PUBLISH
UID:3b6bd4e3-673c-4a4d-9f36-8f03298b0cf7
X-WR-CALNAME:JCal Pro Calendar
X-WR-CALDESC:Your online events calendar
X-WR-TIMEZONE:UTC
BEGIN:VTIMEZONE
TZID:UTC
END:VTIMEZONE
BEGIN:VEVENT
UID:20220121T070000UTC-1413jB2Maw@http://www.denbighchristianacademy.com/
DTSTAMP:20260425T163211Z
CATEGORIES:DCA Events
DESCRIPTION:<p>Second Marking Period ends for 4K and 5K today.</p>
DTSTART:20220121T000000Z
DTEND:20220121T235959Z
SUMMARY:2nd Marking Period ends (4K-5K)
URL:https://denbighchristianacademy.com/index.php/school-calendar/dca-event
 s/11-dca-events/659-2nd-marking-period-ends-4k-5k
X-ALT-DESC;FMTTYPE=TEXT/HTML:<p>Second Marking Period ends for 4K and 5K to
 day.</p>
END:VEVENT
END:VCALENDAR
