BEGIN:VCALENDAR
VERSION:2.0
PRODID:-//https://denbighchristianacademy.com//NONSGML kigkonsult.se iCalcr
 eator 2.29.29//
CALSCALE:GREGORIAN
METHOD:PUBLISH
UID:6fa844a9-9aa9-463f-aea5-982277b1f180
X-WR-CALNAME:JCal Pro Calendar
X-WR-CALDESC:Your online events calendar
X-WR-TIMEZONE:UTC
BEGIN:VTIMEZONE
TZID:UTC
END:VTIMEZONE
BEGIN:VEVENT
UID:20220124T070000UTC-3081PnoM0R@http://www.denbighchristianacademy.com/
DTSTAMP:20260425T163232Z
CATEGORIES:DCA Events
DESCRIPTION:<p>Second Semester begins today for 4K and 5K.</p>
DTSTART:20220124T000000Z
DTEND:20220124T235959Z
SUMMARY:2nd Semester Begins - (4K-5K)
URL:https://denbighchristianacademy.com/index.php/school-calendar/dca-event
 s/11-dca-events/660-2nd-semester-begins-4k-5k
X-ALT-DESC;FMTTYPE=TEXT/HTML:<p>Second Semester begins today for 4K and 5K.
 </p>
END:VEVENT
END:VCALENDAR
