BEGIN:VCALENDAR
VERSION:2.0
PRODID:-//https://denbighchristianacademy.com//NONSGML kigkonsult.se iCalcr
 eator 2.29.29//
CALSCALE:GREGORIAN
METHOD:PUBLISH
UID:5abf8d23-66fb-4742-a152-cbefb787da9f
X-WR-CALNAME:JCal Pro Calendar
X-WR-CALDESC:Your online events calendar
X-WR-TIMEZONE:UTC
BEGIN:VTIMEZONE
TZID:UTC
END:VTIMEZONE
BEGIN:VEVENT
UID:20230224T180000UTC-6683034oUJ@https://www.denbighchristianacademy.com/
DTSTAMP:20260424T221721Z
CATEGORIES:DCA Events
DESCRIPTION:<p>This is a day the students can dress up as community helpers
 \, like a fireman\, nurse\, doctor\, chef\, policeman\, trashman\, veterin
 arian\, military personell\, farmer\, librarian\, paramedic\, and more.</p
 >
DTSTART:20230224T000000Z
DTEND:20230224T235959Z
SUMMARY:Community Helper Day
URL:https://denbighchristianacademy.com/index.php/school-calendar/dca-event
 s/11-dca-events/974-community-helper-day
X-ALT-DESC;FMTTYPE=TEXT/HTML:<p>This is a day the students can dress up as 
 community helpers\, like a fireman\, nurse\, doctor\, chef\, policeman\, t
 rashman\, veterinarian\, military personell\, farmer\, librarian\, paramed
 ic\, and more.</p>
END:VEVENT
END:VCALENDAR
