BEGIN:VCALENDAR
VERSION:2.0
PRODID:-//https://denbighchristianacademy.com//NONSGML kigkonsult.se iCalcr
 eator 2.29.29//
CALSCALE:GREGORIAN
METHOD:PUBLISH
UID:193c9e97-6193-4c2f-ac79-021ec0c162c2
X-WR-CALNAME:JCal Pro Calendar
X-WR-CALDESC:Your online events calendar
X-WR-TIMEZONE:UTC
BEGIN:VTIMEZONE
TZID:UTC
END:VTIMEZONE
BEGIN:VEVENT
UID:20230324T190000UTC-1069UG3sWh@https://www.denbighchristianacademy.com/
DTSTAMP:20260424T235613Z
CATEGORIES:DCA Events
DESCRIPTION:<p>The 3rd Marking period ends today for 4 and 5K. Reports will
  go home March 29. Please sign and return.</p>
DTSTART:20230324T000000Z
DTEND:20230324T235959Z
SUMMARY:Third Marking Period ends (4K-5K)
URL:https://denbighchristianacademy.com/index.php/school-calendar/dca-event
 s/11-dca-events/977-third-marking-period-ends-4k-5k
X-ALT-DESC;FMTTYPE=TEXT/HTML:<p>The 3rd Marking period ends today for 4 and
  5K. Reports will go home March 29. Please sign and return.</p>
END:VEVENT
END:VCALENDAR
