BEGIN:VCALENDAR
VERSION:2.0
PRODID:-//https://denbighchristianacademy.com//NONSGML kigkonsult.se iCalcr
 eator 2.29.29//
CALSCALE:GREGORIAN
METHOD:PUBLISH
UID:70ba7256-73cf-4231-9af1-8b71ee614297
X-WR-CALNAME:JCal Pro Calendar
X-WR-CALDESC:Your online events calendar
X-WR-TIMEZONE:UTC
BEGIN:VTIMEZONE
TZID:UTC
END:VTIMEZONE
BEGIN:VEVENT
UID:20230510T170000UTC-70766Cfsi4@https://www.denbighchristianacademy.com/
DTSTAMP:20260425T024753Z
CATEGORIES:DCA Events
DESCRIPTION:<p>4th interim reports will go home today with 4 and 5K. Please
  sign and return.</p>
DTSTART:20230510T000000Z
DTEND:20230510T235959Z
SUMMARY:Fourth Interim Period issued (4K - 5K)
URL:https://denbighchristianacademy.com/index.php/school-calendar/dca-event
 s/11-dca-events/988-fourth-interim-period-issued-4k-5k
X-ALT-DESC;FMTTYPE=TEXT/HTML:<p>4th interim reports will go home today with
  4 and 5K. Please sign and return.</p>
END:VEVENT
END:VCALENDAR
