BEGIN:VCALENDAR
VERSION:2.0
PRODID:-//https://denbighchristianacademy.com//NONSGML kigkonsult.se iCalcr
 eator 2.29.29//
CALSCALE:GREGORIAN
METHOD:PUBLISH
UID:cfb2856f-ee77-4cda-a67b-1cfefd002059
X-WR-CALNAME:JCal Pro Calendar
X-WR-CALDESC:Your online events calendar
X-WR-TIMEZONE:UTC
BEGIN:VTIMEZONE
TZID:UTC
END:VTIMEZONE
BEGIN:VEVENT
UID:20230529T170000UTC-9577hfV30e@https://www.denbighchristianacademy.com/
DTSTAMP:20260425T040930Z
CATEGORIES:DCA Events
DESCRIPTION:<p>All of DCA is CLOSED in observance of Memorial Day.</p>
DTSTART:20230529T000000Z
DTEND:20230529T235959Z
SUMMARY:Memorial Day - All of DCA CLOSED
URL:https://denbighchristianacademy.com/index.php/school-calendar/dca-event
 s/11-dca-events/991-memorial-day-all-of-dca-closed
X-ALT-DESC;FMTTYPE=TEXT/HTML:<p>All of DCA is CLOSED in observance of Memor
 ial Day.</p>
END:VEVENT
END:VCALENDAR
