BEGIN:VCALENDAR
VERSION:2.0
PRODID:-//https://denbighchristianacademy.com//NONSGML kigkonsult.se iCalcr
 eator 2.29.29//
CALSCALE:GREGORIAN
METHOD:PUBLISH
UID:66507555-e010-4ada-b2e1-7abe4fb71aab
X-WR-CALNAME:JCal Pro Calendar
X-WR-CALDESC:Your online events calendar
X-WR-TIMEZONE:UTC
BEGIN:VTIMEZONE
TZID:UTC
END:VTIMEZONE
BEGIN:VEVENT
UID:20230607T170000UTC-5227RBlviG@https://www.denbighchristianacademy.com/
DTSTAMP:20260425T041006Z
CATEGORIES:DCA Events
DESCRIPTION:<p>Today is the last day for 4K and 5K Kindergarten classes. Ch
 ildcare is available beginning Monday\, June 5.&nbsp\;</p>
DTSTART:20230602T000000Z
DTEND:20230602T235959Z
SUMMARY:Last Day for 4k and 5K Kindergarten. Childcare available 6/5-9/23
URL:https://denbighchristianacademy.com/index.php/school-calendar/dca-event
 s/11-dca-events/993-last-day-for-4k-and-5k-kindergarten-childcare-availabl
 e
X-ALT-DESC;FMTTYPE=TEXT/HTML:<p>Today is the last day for 4K and 5K Kinderg
 arten classes. Childcare is available beginning Monday\, June 5.&nbsp\;</p
 >
END:VEVENT
END:VCALENDAR
