BEGIN:VCALENDAR
VERSION:2.0
PRODID:-//https://denbighchristianacademy.com//NONSGML kigkonsult.se iCalcr
 eator 2.29.29//
CALSCALE:GREGORIAN
METHOD:PUBLISH
UID:3ab66896-8915-4ae8-bd76-1d1bf3919e66
X-WR-CALNAME:JCal Pro Calendar
X-WR-CALDESC:Your online events calendar
X-WR-TIMEZONE:UTC
BEGIN:VTIMEZONE
TZID:UTC
END:VTIMEZONE
BEGIN:VEVENT
UID:20220919T170000UTC-4045H7XxAM@https://www.denbighchristianacademy.com/
DTSTAMP:20260425T040930Z
CATEGORIES:DCA Events
DESCRIPTION:<p>The summer program officially begins today. Childcare is ava
 ilable the week of June 5 - 9\, 2023\, also.</p>
DTSTART:20230612T000000Z
DTEND:20230612T235959Z
SUMMARY:Summer Program Officially begins - Childcare available 6/5 - 9/23
URL:https://denbighchristianacademy.com/index.php/school-calendar/dca-event
 s/11-dca-events/994-summer-program-officially-begins-childcare-available-6
 -5-9-23
X-ALT-DESC;FMTTYPE=TEXT/HTML:<p>The summer program officially begins today.
  Childcare is available the week of June 5 - 9\, 2023\, also.</p>
END:VEVENT
END:VCALENDAR
