BEGIN:VCALENDAR
VERSION:2.0
PRODID:-//https://denbighchristianacademy.com//NONSGML kigkonsult.se iCalcr
 eator 2.29.29//
CALSCALE:GREGORIAN
METHOD:PUBLISH
UID:6d1a88f1-9312-4025-a4da-b8d49b827484
X-WR-CALNAME:JCal Pro Calendar
X-WR-CALDESC:Your online events calendar
X-WR-TIMEZONE:UTC
BEGIN:VTIMEZONE
TZID:UTC
END:VTIMEZONE
BEGIN:VEVENT
UID:20191212T193000UTC-3823o66M9F@http://dca.37west.com/
DTSTAMP:20260425T225303Z
CATEGORIES:DCA Events
DTSTART:20191212T193000Z
DTEND:20191212T203000Z
SUMMARY:DCA Christmas Program 7:30 pm
URL:https://denbighchristianacademy.com/index.php/school-calendar/dca-event
 s/11-dca-events/17-dca-christmas-program-7-30-pm
END:VEVENT
END:VCALENDAR
