BEGIN:VCALENDAR
VERSION:2.0
PRODID:-//https://denbighchristianacademy.com//NONSGML kigkonsult.se iCalcr
 eator 2.29.29//
CALSCALE:GREGORIAN
METHOD:PUBLISH
UID:3ac63b8c-0f33-4677-878d-63935594fd9d
X-WR-CALNAME:JCal Pro Calendar
X-WR-CALDESC:Your online events calendar
X-WR-TIMEZONE:UTC
BEGIN:VTIMEZONE
TZID:UTC
END:VTIMEZONE
BEGIN:VEVENT
UID:20200102T190000UTC-2711cDRmRf@http://dca.37west.com/
DTSTAMP:20260425T211911Z
CATEGORIES:DCA Events
DTSTART:20200102T000000Z
DTEND:20200102T235959Z
SUMMARY:School Reopens
URL:https://denbighchristianacademy.com/index.php/school-calendar/dca-event
 s/11-dca-events/22-school-reopens
END:VEVENT
END:VCALENDAR
