BEGIN:VCALENDAR
VERSION:2.0
PRODID:-//https://denbighchristianacademy.com//NONSGML kigkonsult.se iCalcr
 eator 2.29.29//
CALSCALE:GREGORIAN
METHOD:PUBLISH
UID:f6691faa-97e1-4658-9983-1859ec095474
X-WR-CALNAME:JCal Pro Calendar
X-WR-CALDESC:Your online events calendar
X-WR-TIMEZONE:UTC
BEGIN:VTIMEZONE
TZID:UTC
END:VTIMEZONE
BEGIN:VEVENT
UID:20200406T040000UTC-4542SabFox@http://dca.37west.com/
DTSTAMP:20260425T164500Z
CATEGORIES:DCA Events
DTSTART:20200406T040000Z
DTEND:20200410T234900Z
SUMMARY:6-10 Spring Break (4K-5K) Closed / Preschool & Daycare OPEN)
URL:https://denbighchristianacademy.com/index.php/school-calendar/dca-event
 s/11-dca-events/37-6-10-spring-break-4k-5k-closed-preschool-daycare-open
END:VEVENT
END:VCALENDAR
