BEGIN:VCALENDAR
VERSION:2.0
PRODID:-//https://denbighchristianacademy.com//NONSGML kigkonsult.se iCalcr
 eator 2.29.29//
CALSCALE:GREGORIAN
METHOD:PUBLISH
UID:1d3f963f-c2fc-4226-bcea-a444a5d2149f
X-WR-CALNAME:JCal Pro Calendar
X-WR-CALDESC:Your online events calendar
X-WR-TIMEZONE:UTC
BEGIN:VTIMEZONE
TZID:UTC
END:VTIMEZONE
BEGIN:VEVENT
UID:20200424T170000UTC-5604acMoHF@http://dca.37west.com/
DTSTAMP:20260425T165907Z
CATEGORIES:DCA Events
DTSTART:20200424T000000Z
DTEND:20200424T235959Z
SUMMARY:Western Day
URL:https://denbighchristianacademy.com/index.php/school-calendar/dca-event
 s/11-dca-events/48-western-day
END:VEVENT
END:VCALENDAR
