BEGIN:VCALENDAR
VERSION:2.0
PRODID:-//https://denbighchristianacademy.com//NONSGML kigkonsult.se iCalcr
 eator 2.29.29//
CALSCALE:GREGORIAN
METHOD:PUBLISH
UID:6eb0f571-cb17-441a-b6fc-2d74691ca7fc
X-WR-CALNAME:JCal Pro Calendar
X-WR-CALDESC:Your online events calendar
X-WR-TIMEZONE:UTC
BEGIN:VTIMEZONE
TZID:UTC
END:VTIMEZONE
BEGIN:VEVENT
UID:20220221T070000UTC-7233V3piCa@http://www.denbighchristianacademy.com/
DTSTAMP:20260425T161100Z
CATEGORIES:DCA Events
DESCRIPTION:<p>All of DCA is CLOSED today for President's Day.</p>
DTSTART:20220221T000000Z
DTEND:20220221T235959Z
SUMMARY:President's Day - All of DCA CLOSED
URL:https://denbighchristianacademy.com/index.php/school-calendar/dca-event
 s/11-dca-events/663-president-s-day-all-of-dca-closed
X-ALT-DESC;FMTTYPE=TEXT/HTML:<p>All of DCA is CLOSED today for President's 
 Day.</p>
END:VEVENT
END:VCALENDAR
