BEGIN:VCALENDAR
VERSION:2.0
PRODID:-//https://denbighchristianacademy.com//NONSGML kigkonsult.se iCalcr
 eator 2.29.29//
CALSCALE:GREGORIAN
METHOD:PUBLISH
UID:0837794b-ebeb-4b6f-a899-c6eba1d5b7ef
X-WR-CALNAME:JCal Pro Calendar
X-WR-CALDESC:Your online events calendar
X-WR-TIMEZONE:UTC
BEGIN:VTIMEZONE
TZID:UTC
END:VTIMEZONE
BEGIN:VEVENT
UID:20220225T070000UTC-5492RB1h94@http://www.denbighchristianacademy.com/
DTSTAMP:20260425T161124Z
CATEGORIES:DCA Events
DESCRIPTION:<p>Students and staff can wear clothing items to represent some
 one that is a community helper\, like<br />a fireman\, nurse\, police offi
 cer\, librarian\, etc.</p>
DTSTART:20220225T000000Z
DTEND:20220225T235959Z
SUMMARY:Community Helper Day
URL:https://denbighchristianacademy.com/index.php/school-calendar/dca-event
 s/11-dca-events/664-community-helper-day
X-ALT-DESC;FMTTYPE=TEXT/HTML:<p>Students and staff can wear clothing items 
 to represent someone that is a community helper\, like<br />a fireman\, nu
 rse\, police officer\, librarian\, etc.</p>
END:VEVENT
END:VCALENDAR
