BEGIN:VCALENDAR
VERSION:2.0
PRODID:-//https://denbighchristianacademy.com//NONSGML kigkonsult.se iCalcr
 eator 2.29.29//
CALSCALE:GREGORIAN
METHOD:PUBLISH
UID:03c60267-5c76-4d22-8f8c-5157066170e4
X-WR-CALNAME:JCal Pro Calendar
X-WR-CALDESC:Your online events calendar
X-WR-TIMEZONE:UTC
BEGIN:VTIMEZONE
TZID:UTC
END:VTIMEZONE
BEGIN:VEVENT
UID:20220326T070000UTC-81960tXvfz@http://www.denbighchristianacademy.com/
DTSTAMP:20260425T132600Z
CATEGORIES:DCA Events
DESCRIPTION:<p>Open House is cancelled.</p>
DTSTART:20220326T000000Z
DTEND:20220326T235959Z
SUMMARY:Open House CANCELLED
URL:https://denbighchristianacademy.com/index.php/school-calendar/dca-event
 s/11-dca-events/668-open-house-10-am-12-noon
X-ALT-DESC;FMTTYPE=TEXT/HTML:<p>Open House is cancelled.</p>
END:VEVENT
END:VCALENDAR
