BEGIN:VCALENDAR
VERSION:2.0
PRODID:-//https://denbighchristianacademy.com//NONSGML kigkonsult.se iCalcr
 eator 2.29.29//
CALSCALE:GREGORIAN
METHOD:PUBLISH
UID:a4f4f9a8-63ff-4b05-9b76-21a13c6065fd
X-WR-CALNAME:JCal Pro Calendar
X-WR-CALDESC:Your online events calendar
X-WR-TIMEZONE:UTC
BEGIN:VTIMEZONE
TZID:UTC
END:VTIMEZONE
BEGIN:VEVENT
UID:20220401T190000UTC-5026eS1f0e@http://www.denbighchristianacademy.com/
DTSTAMP:20260425T132444Z
CATEGORIES:DCA Events
DESCRIPTION:<p>The Third Marking Period for 4K and 5K ends today.</p>
DTSTART:20220401T000000Z
DTEND:20220401T235959Z
SUMMARY:3rd Marking Period ends (4K-5K)
URL:https://denbighchristianacademy.com/index.php/school-calendar/dca-event
 s/11-dca-events/689-3rd-marking-period-ends-4k-5k
X-ALT-DESC;FMTTYPE=TEXT/HTML:<p>The Third Marking Period for 4K and 5K ends
  today.</p>
END:VEVENT
END:VCALENDAR
