BEGIN:VCALENDAR
VERSION:2.0
PRODID:-//https://denbighchristianacademy.com//NONSGML kigkonsult.se iCalcr
 eator 2.29.29//
CALSCALE:GREGORIAN
METHOD:PUBLISH
UID:d64176cc-7f58-491d-bcb3-da559817295e
X-WR-CALNAME:JCal Pro Calendar
X-WR-CALDESC:Your online events calendar
X-WR-TIMEZONE:UTC
BEGIN:VTIMEZONE
TZID:UTC
END:VTIMEZONE
BEGIN:VEVENT
UID:20221021T150000UTC-08119efl67@https://www.denbighchristianacademy.com/
DTSTAMP:20260424T234947Z
CATEGORIES:DCA Events
DTSTART:20221021T000000Z
DTEND:20221021T235959Z
SUMMARY:Crazy Sock Day
URL:https://denbighchristianacademy.com/index.php/school-calendar/dca-event
 s/11-dca-events/952-crazy-sock-day
END:VEVENT
END:VCALENDAR
