BEGIN:VCALENDAR
VERSION:2.0
PRODID:-//https://denbighchristianacademy.com//NONSGML kigkonsult.se iCalcr
 eator 2.29.29//
CALSCALE:GREGORIAN
METHOD:PUBLISH
UID:098c87d8-12d1-48f3-b958-5f17af9797b0
X-WR-CALNAME:JCal Pro Calendar
X-WR-CALDESC:Your online events calendar
X-WR-TIMEZONE:UTC
BEGIN:VTIMEZONE
TZID:UTC
END:VTIMEZONE
BEGIN:VEVENT
UID:20230301T180000UTC-3930g4fgeo@https://www.denbighchristianacademy.com/
DTSTAMP:20260424T234946Z
CATEGORIES:DCA Events
DESCRIPTION:<p>3rd Interim period reports will go home with 4 and 5K today.
  Please sign and return tomorrow.</p>
DTSTART:20230301T000000Z
DTEND:20230301T235959Z
SUMMARY:Third Interim Period Reports issued (4K-5K)
URL:https://denbighchristianacademy.com/index.php/school-calendar/dca-event
 s/11-dca-events/975-third-interim-period-reports-issued-4k-5k
X-ALT-DESC;FMTTYPE=TEXT/HTML:<p>3rd Interim period reports will go home wit
 h 4 and 5K today. Please sign and return tomorrow.</p>
END:VEVENT
END:VCALENDAR
