BEGIN:VCALENDAR
VERSION:2.0
PRODID:-//https://denbighchristianacademy.com//NONSGML kigkonsult.se iCalcr
 eator 2.29.29//
CALSCALE:GREGORIAN
METHOD:PUBLISH
UID:1e3377dd-8dc8-4718-b44a-61d91953c8f3
X-WR-CALNAME:JCal Pro Calendar
X-WR-CALDESC:Your online events calendar
X-WR-TIMEZONE:UTC
BEGIN:VTIMEZONE
TZID:UTC
END:VTIMEZONE
BEGIN:VEVENT
UID:20240322T060000UTC-10443lxlSw@https://www.denbighchristianacademy.com/
DTSTAMP:20260425T035949Z
CATEGORIES:DCA Events
DESCRIPTION:<p>The Third Marking Period ends today for 4K and 5K.</p>
DTSTART:20240322T000000Z
DTEND:20240322T235959Z
SUMMARY:3rd Marking Period ends (4K-5K)
URL:https://denbighchristianacademy.com/index.php/school-calendar/dca-event
 s/11-dca-events/1208-3rd-marking-period-ends-4k-5k
X-ALT-DESC;FMTTYPE=TEXT/HTML:<p>The Third Marking Period ends today for 4K 
 and 5K.</p>
END:VEVENT
END:VCALENDAR
