BEGIN:VCALENDAR
VERSION:2.0
PRODID:-//https://denbighchristianacademy.com//NONSGML kigkonsult.se iCalcr
 eator 2.29.29//
CALSCALE:GREGORIAN
METHOD:PUBLISH
UID:3ae3496a-f160-43f2-922f-446364605510
X-WR-CALNAME:JCal Pro Calendar
X-WR-CALDESC:Your online events calendar
X-WR-TIMEZONE:UTC
BEGIN:VTIMEZONE
TZID:UTC
END:VTIMEZONE
BEGIN:VEVENT
UID:20240417T083000UTC-4814uVvR2w@https://www.denbighchristianacademy.com/
DTSTAMP:20260425T024318Z
CATEGORIES:DCA Events
DESCRIPTION:<p>4K and 5K will have their pictures taken today.</p>
DTSTART:20240417T083000Z
DTEND:20240417T103000Z
SUMMARY:4K/5K Picture Day - 8:30 am
URL:https://denbighchristianacademy.com/index.php/school-calendar/dca-event
 s/11-dca-events/1214-4k-5k-picture-day-8-30-am
X-ALT-DESC;FMTTYPE=TEXT/HTML:<p>4K and 5K will have their pictures taken to
 day.</p>
END:VEVENT
END:VCALENDAR
