BEGIN:VCALENDAR
VERSION:2.0
PRODID:-//https://denbighchristianacademy.com//NONSGML kigkonsult.se iCalcr
 eator 2.29.29//
CALSCALE:GREGORIAN
METHOD:PUBLISH
UID:5d1c8cd1-a47d-4d87-b204-eba5843308e1
X-WR-CALNAME:JCal Pro Calendar
X-WR-CALDESC:Your online events calendar
X-WR-TIMEZONE:UTC
BEGIN:VTIMEZONE
TZID:UTC
END:VTIMEZONE
BEGIN:VEVENT
UID:20240607T100000UTC-14536Ju72R@https://www.denbighchristianacademy.com/
DTSTAMP:20260424T234856Z
CATEGORIES:DCA Events
DESCRIPTION:<p>The 4K Awards ceremony will begin at 10 am in the sanctuary.
 </p>
DTSTART:20240607T100000Z
DTEND:20240607T110000Z
SUMMARY:4K Awards Ceremony - 10:00 am
URL:https://denbighchristianacademy.com/index.php/school-calendar/dca-event
 s/11-dca-events/1223-4k-awards-ceremony-10-00-am
X-ALT-DESC;FMTTYPE=TEXT/HTML:<p>The 4K Awards ceremony will begin at 10 am 
 in the sanctuary.</p>
END:VEVENT
BEGIN:VEVENT
UID:20240607T203000UTC-4159lW196J@https://www.denbighchristianacademy.com/
DTSTAMP:20260424T234856Z
CATEGORIES:DCA Events
DESCRIPTION:<p>Graduation for 5K will be in the Sanctuary beginning at 8:30
  a.m.</p>
DTSTART:20240607T203000Z
DTEND:20240607T213000Z
SUMMARY:5K Graduation - 8:30 a.m.
URL:https://denbighchristianacademy.com/index.php/school-calendar/dca-event
 s/11-dca-events/1222-5k-graduation-8-30-a-m
X-ALT-DESC;FMTTYPE=TEXT/HTML:<p>Graduation for 5K will be in the Sanctuary 
 beginning at 8:30 a.m.</p>
END:VEVENT
END:VCALENDAR
