BEGIN:VCALENDAR
VERSION:2.0
PRODID:-//https://denbighchristianacademy.com//NONSGML kigkonsult.se iCalcr
 eator 2.29.29//
CALSCALE:GREGORIAN
METHOD:PUBLISH
UID:b9cc61bb-ea69-4eb0-80b6-63411c99676e
X-WR-CALNAME:JCal Pro Calendar
X-WR-CALDESC:Your online events calendar
X-WR-TIMEZONE:UTC
BEGIN:VTIMEZONE
TZID:UTC
END:VTIMEZONE
BEGIN:VEVENT
UID:20241101T140000UTC-3015M9DpLp@https://www.denbighchristianacademy.com/
DTSTAMP:20260424T164801Z
CATEGORIES:DCA Events
DESCRIPTION:<p>The first marking period for 4k and 5k ends today.</p>
DTSTART:20241101T000000Z
DTEND:20241101T235959Z
SUMMARY:First Marking Period ends (4k-5k)
URL:https://denbighchristianacademy.com/index.php/school-calendar/dca-event
 s/11-dca-events/1544-first-marking-period-ends-4k-5k
X-ALT-DESC;FMTTYPE=TEXT/HTML:<p>The first marking period for 4k and 5k ends
  today.</p>
END:VEVENT
END:VCALENDAR
