BEGIN:VCALENDAR
VERSION:2.0
PRODID:-//https://denbighchristianacademy.com//NONSGML kigkonsult.se iCalcr
 eator 2.29.29//
CALSCALE:GREGORIAN
METHOD:PUBLISH
UID:eb7b6178-ef78-46e5-945a-dab91b52c76f
X-WR-CALNAME:JCal Pro Calendar
X-WR-CALDESC:Your online events calendar
X-WR-TIMEZONE:UTC
BEGIN:VTIMEZONE
TZID:UTC
END:VTIMEZONE
BEGIN:VEVENT
UID:20241213T140000UTC-7881sESbpV@https://www.denbighchristianacademy.com/
DTSTAMP:20260424T164052Z
CATEGORIES:DCA Events
DESCRIPTION:<p>Wear all your red and green today.&nbsp\;</p>
DTSTART:20241213T000000Z
DTEND:20241213T235959Z
SUMMARY:Red & Green Day
URL:https://denbighchristianacademy.com/index.php/school-calendar/dca-event
 s/11-dca-events/1552-red-green-day
X-ALT-DESC;FMTTYPE=TEXT/HTML:<p>Wear all your red and green today.&nbsp\;</
 p>
END:VEVENT
END:VCALENDAR
