BEGIN:VCALENDAR
VERSION:2.0
PRODID:-//https://denbighchristianacademy.com//NONSGML kigkonsult.se iCalcr
 eator 2.29.29//
CALSCALE:GREGORIAN
METHOD:PUBLISH
UID:e20b251c-8208-4475-9221-a9e0388d86a1
X-WR-CALNAME:JCal Pro Calendar
X-WR-CALDESC:Your online events calendar
X-WR-TIMEZONE:UTC
BEGIN:VTIMEZONE
TZID:UTC
END:VTIMEZONE
BEGIN:VEVENT
UID:20250102T140000UTC-6838VJVK9f@https://www.denbighchristianacademy.com/
DTSTAMP:20260424T163025Z
CATEGORIES:DCA Events
DESCRIPTION:<p>DCA reopens today for all children.</p>
DTSTART:20250102T000000Z
DTEND:20250102T235959Z
SUMMARY:School Reopens
URL:https://denbighchristianacademy.com/index.php/school-calendar/dca-event
 s/11-dca-events/1554-school-reopens
X-ALT-DESC;FMTTYPE=TEXT/HTML:<p>DCA reopens today for all children.</p>
END:VEVENT
END:VCALENDAR
