BEGIN:VCALENDAR
VERSION:2.0
PRODID:-//https://denbighchristianacademy.com//NONSGML kigkonsult.se iCalcr
 eator 2.29.29//
CALSCALE:GREGORIAN
METHOD:PUBLISH
UID:720878b8-34c8-4e8c-8b9f-fe306a4c210c
X-WR-CALNAME:JCal Pro Calendar
X-WR-CALDESC:Your online events calendar
X-WR-TIMEZONE:UTC
BEGIN:VTIMEZONE
TZID:UTC
END:VTIMEZONE
BEGIN:VEVENT
UID:20250124T140000UTC-7592pvbun3@https://www.denbighchristianacademy.com/
DTSTAMP:20260424T163058Z
CATEGORIES:DCA Events
DESCRIPTION:<p>Students can wear items related to sports.</p>
DTSTART:20250124T000000Z
DTEND:20250124T235959Z
SUMMARY:Sport Day
URL:https://denbighchristianacademy.com/index.php/school-calendar/dca-event
 s/11-dca-events/1564-sport-day
X-ALT-DESC;FMTTYPE=TEXT/HTML:<p>Students can wear items related to sports.<
 /p>
END:VEVENT
END:VCALENDAR
