BEGIN:VCALENDAR
VERSION:2.0
PRODID:-//https://denbighchristianacademy.com//NONSGML kigkonsult.se iCalcr
 eator 2.29.29//
CALSCALE:GREGORIAN
METHOD:PUBLISH
UID:6afd3f5f-efb9-4b2d-8ba0-f930ee0a7c73
X-WR-CALNAME:JCal Pro Calendar
X-WR-CALDESC:Your online events calendar
X-WR-TIMEZONE:UTC
BEGIN:VTIMEZONE
TZID:UTC
END:VTIMEZONE
BEGIN:VEVENT
UID:20250421T150000UTC-0342xkAgNU@https://www.denbighchristianacademy.com/
DTSTAMP:20260424T154437Z
CATEGORIES:DCA Events
DESCRIPTION:<p>All of DCA is CLOSED today for Resurrection Monday.&nbsp\;</
 p>
DTSTART:20250421T000000Z
DTEND:20250421T235959Z
SUMMARY:Resurrection Monday - All of DCA CLOSED
URL:https://denbighchristianacademy.com/index.php/school-calendar/dca-event
 s/11-dca-events/1575-resurrection-monday-all-of-dca-closed
X-ALT-DESC;FMTTYPE=TEXT/HTML:<p>All of DCA is CLOSED today for Resurrection
  Monday.&nbsp\;</p>
END:VEVENT
END:VCALENDAR
