BEGIN:VCALENDAR
VERSION:2.0
PRODID:-//https://denbighchristianacademy.com//NONSGML kigkonsult.se iCalcr
 eator 2.29.29//
CALSCALE:GREGORIAN
METHOD:PUBLISH
UID:5a24cd18-aa02-4207-a4ae-25da415a3a41
X-WR-CALNAME:JCal Pro Calendar
X-WR-CALDESC:Your online events calendar
X-WR-TIMEZONE:UTC
BEGIN:VTIMEZONE
TZID:UTC
END:VTIMEZONE
BEGIN:VEVENT
UID:20250502T160000UTC-9781OZUEhm@https://www.denbighchristianacademy.com/
DTSTAMP:20260424T103742Z
CATEGORIES:DCA Events
DESCRIPTION:<p>4th Interim Period ends today for 4k and 5k.</p>
DTSTART:20250502T000000Z
DTEND:20250502T235959Z
SUMMARY:Fourth Interim Period ends (4k-5k)
URL:https://denbighchristianacademy.com/index.php/school-calendar/dca-event
 s/11-dca-events/1577-fourth-interim-period-ends-4k-5k
X-ALT-DESC;FMTTYPE=TEXT/HTML:<p>4th Interim Period ends today for 4k and 5k
 .</p>
END:VEVENT
END:VCALENDAR
