BEGIN:VCALENDAR
VERSION:2.0
PRODID:-//https://denbighchristianacademy.com//NONSGML kigkonsult.se iCalcr
 eator 2.29.29//
CALSCALE:GREGORIAN
METHOD:PUBLISH
UID:4f7d61b3-510f-4058-8e22-b9c2d50fc438
X-WR-CALNAME:JCal Pro Calendar
X-WR-CALDESC:Your online events calendar
X-WR-TIMEZONE:UTC
BEGIN:VTIMEZONE
TZID:UTC
END:VTIMEZONE
BEGIN:VEVENT
UID:20240826T160000UTC-5078eip6w6@https://www.denbighchristianacademy.com/
DTSTAMP:20260424T164800Z
CATEGORIES:DCA Events
DESCRIPTION:<p>All of DCA will be closed for Memorial Day.</p>
DTSTART:20250526T000000Z
DTEND:20250526T235959Z
SUMMARY:Memorial Day - All of DCA CLOSED
URL:https://denbighchristianacademy.com/index.php/school-calendar/dca-event
 s/11-dca-events/1581-memorial-day-all-of-dca-closed
X-ALT-DESC;FMTTYPE=TEXT/HTML:<p>All of DCA will be closed for Memorial Day.
 </p>
END:VEVENT
END:VCALENDAR
