BEGIN:VCALENDAR
VERSION:2.0
PRODID:-//https://denbighchristianacademy.com//NONSGML kigkonsult.se iCalcr
 eator 2.29.29//
CALSCALE:GREGORIAN
METHOD:PUBLISH
UID:7e2a5457-8349-4cc1-9f72-32d742aaf2a9
X-WR-CALNAME:JCal Pro Calendar
X-WR-CALDESC:Your online events calendar
X-WR-TIMEZONE:UTC
BEGIN:VTIMEZONE
TZID:UTC
END:VTIMEZONE
BEGIN:VEVENT
UID:20250606T083000UTC-1427uvSdvn@https://www.denbighchristianacademy.com/
DTSTAMP:20260424T135404Z
CATEGORIES:DCA Events
DESCRIPTION:<p>5K Graduation will begin in the sanctuary at 8:30 a.m.&nbsp\
 ; 4K Awards will begin in the sanctuary at 10:00 a.m.</p>
DTSTART:20250606T083000Z
DTEND:20250606T103000Z
SUMMARY:5K Graduation 8:30 a.m. and 4K Awards 10:00 a.m.
URL:https://denbighchristianacademy.com/index.php/school-calendar/dca-event
 s/11-dca-events/1582-5k-graduation-8-30-a-m-and-4k-awards-10-00-a-m
X-ALT-DESC;FMTTYPE=TEXT/HTML:<p>5K Graduation will begin in the sanctuary a
 t 8:30 a.m.&nbsp\; 4K Awards will begin in the sanctuary at 10:00 a.m.</p>
END:VEVENT
BEGIN:VEVENT
UID:20250606T160000UTC-6455CniVMj@https://www.denbighchristianacademy.com/
DTSTAMP:20260424T135404Z
CATEGORIES:DCA Events
DESCRIPTION:<p>Today is the last school day for 4K and 5K.&nbsp\;</p>
DTSTART:20250606T000000Z
DTEND:20250606T235959Z
SUMMARY:Last School Day for 4K & 5K
URL:https://denbighchristianacademy.com/index.php/school-calendar/dca-event
 s/11-dca-events/1583-last-school-day-for-4k-5k
X-ALT-DESC;FMTTYPE=TEXT/HTML:<p>Today is the last school day for 4K and 5K.
 &nbsp\;</p>
END:VEVENT
END:VCALENDAR
