BEGIN:VCALENDAR
VERSION:2.0
PRODID:-//https://denbighchristianacademy.com//NONSGML kigkonsult.se iCalcr
 eator 2.29.29//
CALSCALE:GREGORIAN
METHOD:PUBLISH
UID:746ec2d7-1481-46b7-827c-5704cf709565
X-WR-CALNAME:JCal Pro Calendar
X-WR-CALDESC:Your online events calendar
X-WR-TIMEZONE:UTC
BEGIN:VTIMEZONE
TZID:UTC
END:VTIMEZONE
BEGIN:VEVENT
UID:20250609T160000UTC-9318n4Cmo8@https://www.denbighchristianacademy.com/
DTSTAMP:20260424T140103Z
CATEGORIES:DCA Events
DESCRIPTION:<p>All of DCA is closed for a staff work day.</p>
DTSTART:20250609T000000Z
DTEND:20250609T235959Z
SUMMARY:Staff Work Day - All of DCA Closed
URL:https://denbighchristianacademy.com/index.php/school-calendar/dca-event
 s/11-dca-events/1584-staff-work-day-all-of-dca-closed
X-ALT-DESC;FMTTYPE=TEXT/HTML:<p>All of DCA is closed for a staff work day.<
 /p>
END:VEVENT
END:VCALENDAR
