BEGIN:VCALENDAR
VERSION:2.0
PRODID:-//https://denbighchristianacademy.com//NONSGML kigkonsult.se iCalcr
 eator 2.29.29//
CALSCALE:GREGORIAN
METHOD:PUBLISH
UID:7796b6f5-0682-4bcd-967e-271260d1c4a5
X-WR-CALNAME:JCal Pro Calendar
X-WR-CALDESC:Your online events calendar
X-WR-TIMEZONE:UTC
BEGIN:VTIMEZONE
TZID:UTC
END:VTIMEZONE
BEGIN:VEVENT
UID:20251030T160000UTC-5937nuFk13@https://www.denbighchristianacademy.com/
DTSTAMP:20260424T163952Z
CATEGORIES:DCA Events
DESCRIPTION:<p>The 4K and 5K classes will have their individual student pho
 tos taken beginning about 8:30.</p>
DTSTART:20251030T000000Z
DTEND:20251030T235959Z
SUMMARY:4K & 5K Student Photos
URL:https://denbighchristianacademy.com/index.php/school-calendar/dca-event
 s/11-dca-events/1780-4k-5k-student-photos
X-ALT-DESC;FMTTYPE=TEXT/HTML:<p>The 4K and 5K classes will have their indiv
 idual student photos taken beginning about 8:30.</p>
END:VEVENT
END:VCALENDAR
