BEGIN:VCALENDAR
VERSION:2.0
PRODID:-//https://denbighchristianacademy.com//NONSGML kigkonsult.se iCalcr
 eator 2.29.29//
CALSCALE:GREGORIAN
METHOD:PUBLISH
UID:02e0ef31-b6b9-4dcf-b600-72f836137d10
X-WR-CALNAME:JCal Pro Calendar
X-WR-CALDESC:Your online events calendar
X-WR-TIMEZONE:UTC
BEGIN:VTIMEZONE
TZID:UTC
END:VTIMEZONE
BEGIN:VEVENT
UID:20251105T160000UTC-1630Pa8XZu@https://www.denbighchristianacademy.com/
DTSTAMP:20260424T164800Z
CATEGORIES:DCA Events
DESCRIPTION:<p>The first marking perioid reports will go home today for 4K 
 and 5K. Please sign and return tomorrow.</p>
DTSTART:20251105T000000Z
DTEND:20251105T235959Z
SUMMARY:First Marking Period Reports issued (4k-5k)
URL:https://denbighchristianacademy.com/index.php/school-calendar/dca-event
 s/11-dca-events/1783-first-marking-period-reports-issued-4k-5k
X-ALT-DESC;FMTTYPE=TEXT/HTML:<p>The first marking perioid reports will go h
 ome today for 4K and 5K. Please sign and return tomorrow.</p>
END:VEVENT
END:VCALENDAR
