BEGIN:VCALENDAR
VERSION:2.0
PRODID:-//https://denbighchristianacademy.com//NONSGML kigkonsult.se iCalcr
 eator 2.29.29//
CALSCALE:GREGORIAN
METHOD:PUBLISH
UID:477147c3-86e8-4895-b0e9-eaaf5cce77b8
X-WR-CALNAME:JCal Pro Calendar
X-WR-CALDESC:Your online events calendar
X-WR-TIMEZONE:UTC
BEGIN:VTIMEZONE
TZID:UTC
END:VTIMEZONE
BEGIN:VEVENT
UID:20200824T180000UTC-3527sDJXzE@http://www.denbighchristianacademy.com/
DTSTAMP:20260425T035402Z
CATEGORIES:DCA Events
DESCRIPTION:<p>Cancelled due to Covid<br />Back to School Orientation begin
 s <br />at&nbsp\;7:00 pm in the sanctuary.</p>
DTSTART:20200824T190000Z
DTEND:20200824T200000Z
SUMMARY:Cancelled - Back To School Orientation
URL:https://denbighchristianacademy.com/index.php/school-calendar/dca-event
 s/11-dca-events/250-back-to-school-orientation
X-ALT-DESC;FMTTYPE=TEXT/HTML:<p>Cancelled due to Covid<br />Back to School 
 Orientation begins <br />at&nbsp\;7:00 pm in the sanctuary.</p>
END:VEVENT
END:VCALENDAR
