BEGIN:VCALENDAR
VERSION:2.0
PRODID:-//https://denbighchristianacademy.com//NONSGML kigkonsult.se iCalcr
 eator 2.29.29//
CALSCALE:GREGORIAN
METHOD:PUBLISH
UID:c75bee7d-93e6-496d-a94c-09ab401c8625
X-WR-CALNAME:JCal Pro Calendar
X-WR-CALDESC:Your online events calendar
X-WR-TIMEZONE:UTC
BEGIN:VTIMEZONE
TZID:UTC
END:VTIMEZONE
BEGIN:VEVENT
UID:20201009T180000UTC-6418vP52kN@http://www.denbighchristianacademy.com/
DTSTAMP:20260424T192414Z
CATEGORIES:DCA Events
DESCRIPTION:<p>First Interim Period ends for 4K and 5K.</p>
DTSTART:20201009T000000Z
DTEND:20201009T235959Z
SUMMARY:First Interim Period ends (4K-5K)
URL:https://denbighchristianacademy.com/index.php/school-calendar/dca-event
 s/11-dca-events/254-first-interim-period-ends-4k-5k
X-ALT-DESC;FMTTYPE=TEXT/HTML:<p>First Interim Period ends for 4K and 5K.</p
 >
END:VEVENT
BEGIN:VEVENT
UID:20201014T180000UTC-9897UZpchW@http://www.denbighchristianacademy.com/
DTSTAMP:20260424T192414Z
CATEGORIES:DCA Events
DESCRIPTION:<p>First Interim Reports being<br />sent home with students.</p
 >
DTSTART:20201014T000000Z
DTEND:20201014T235959Z
SUMMARY:First Interim Reports issued (4K-5K)
URL:https://denbighchristianacademy.com/index.php/school-calendar/dca-event
 s/11-dca-events/255-first-interim-reports-issued-4k-5k
X-ALT-DESC;FMTTYPE=TEXT/HTML:<p>First Interim Reports being<br />sent home 
 with students.</p>
END:VEVENT
BEGIN:VEVENT
UID:20201023T180000UTC-5050aTudbv@http://www.denbighchristianacademy.com/
DTSTAMP:20260424T192414Z
CATEGORIES:DCA Events
DESCRIPTION:<p>For Twin Day\, students can&nbsp\;<br />dress the same as a 
 friend.</p>
DTSTART:20201023T000000Z
DTEND:20201023T235959Z
SUMMARY:Twin Day
URL:https://denbighchristianacademy.com/index.php/school-calendar/dca-event
 s/11-dca-events/259-twin-day
X-ALT-DESC;FMTTYPE=TEXT/HTML:<p>For Twin Day\, students can&nbsp\;<br />dre
 ss the same as a friend.</p>
END:VEVENT
BEGIN:VEVENT
UID:20201026T083000UTC-6141VaZDfr@http://www.denbighchristianacademy.com/
DTSTAMP:20260424T192414Z
CATEGORIES:DCA Events
DESCRIPTION:<p>Individual and class photos will<br />begin at 8:30 a.m. in 
 the gym<br />for 2 - 2 1/2 year olds.</p>
DTSTART:20201026T083000Z
DTEND:20201026T103000Z
SUMMARY:Individual & Class Photos - 2 - 2 1/2 Year Olds at 8:30 am
URL:https://denbighchristianacademy.com/index.php/school-calendar/dca-event
 s/11-dca-events/256-individual-student-photos-2-2-1-2-year-olds-at-8-30-am
X-ALT-DESC;FMTTYPE=TEXT/HTML:<p>Individual and class photos will<br />begin
  at 8:30 a.m. in the gym<br />for 2 - 2 1/2 year olds.</p>
END:VEVENT
BEGIN:VEVENT
UID:20201027T083000UTC-4930VkPh3a@http://www.denbighchristianacademy.com/
DTSTAMP:20260424T192414Z
CATEGORIES:DCA Events
DESCRIPTION:<p>3 Year Preschool will have individual &amp\;<br />class phot
 os&nbsp\;taken at 8:30 am in the gym.</p>
DTSTART:20201027T083000Z
DTEND:20201027T103000Z
SUMMARY:3 Year Preschool Individual & Class Photos 8:30 am
URL:https://denbighchristianacademy.com/index.php/school-calendar/dca-event
 s/11-dca-events/257-3-year-preschool-individual-student-photos-8-30-am
X-ALT-DESC;FMTTYPE=TEXT/HTML:<p>3 Year Preschool will have individual &amp\
 ;<br />class photos&nbsp\;taken at 8:30 am in the gym.</p>
END:VEVENT
BEGIN:VEVENT
UID:20201028T083000UTC-1994lWeCjX@http://www.denbighchristianacademy.com/
DTSTAMP:20260424T192414Z
CATEGORIES:DCA Events
DESCRIPTION:<p>4K and 5K will have individual<br />photos taken at 8:30 am 
 in the&nbsp\;<br />gym.</p>
DTSTART:20201028T083000Z
DTEND:20201028T103000Z
SUMMARY:4K and 5K Individual Student Photos at 8:30 am
URL:https://denbighchristianacademy.com/index.php/school-calendar/dca-event
 s/11-dca-events/258-4k-and-5k-individual-student-photos-at-8-30-am
X-ALT-DESC;FMTTYPE=TEXT/HTML:<p>4K and 5K will have individual<br />photos 
 taken at 8:30 am in the&nbsp\;<br />gym.</p>
END:VEVENT
BEGIN:VEVENT
UID:20201031T190000UTC-2400PeND4u@http://www.denbighchristianacademy.com/
DTSTAMP:20260424T192414Z
CATEGORIES:DCA Events
DESCRIPTION:<p>Fall Fest is cancelled due to Covid-19</p>
DTSTART:20201031T180000Z
DTEND:20201031T210000Z
SUMMARY:Cancelled - Fall Fest 6 - 9 pm
URL:https://denbighchristianacademy.com/index.php/school-calendar/dca-event
 s/11-dca-events/260-fall-fest-6-9-pm
X-ALT-DESC;FMTTYPE=TEXT/HTML:<p>Fall Fest is cancelled due to Covid-19</p>
END:VEVENT
END:VCALENDAR
