BEGIN:VCALENDAR
VERSION:2.0
PRODID:-//https://denbighchristianacademy.com//NONSGML kigkonsult.se iCalcr
 eator 2.29.29//
CALSCALE:GREGORIAN
METHOD:PUBLISH
UID:87a6be4f-6b47-4db5-baa9-0c78934781b0
X-WR-CALNAME:JCal Pro Calendar
X-WR-CALDESC:Your online events calendar
X-WR-TIMEZONE:UTC
BEGIN:VTIMEZONE
TZID:UTC
END:VTIMEZONE
BEGIN:VEVENT
UID:20210830T160000UTC-9661wSEE0J@http://www.denbighchristianacademy.com/
DTSTAMP:20260426T032205Z
CATEGORIES:DCA Events
DESCRIPTION:<p>Back to School Night 7:00 pm in the sanctuary.</p>\n<p>&nbsp
 \;</p>
DTSTART:20210830T190000Z
DTEND:20210830T203000Z
SUMMARY:Back to School Night 7 pm
URL:https://denbighchristianacademy.com/index.php/school-calendar/dca-event
 s/11-dca-events/631-back-to-school-night-7-pm
X-ALT-DESC;FMTTYPE=TEXT/HTML:<p>Back to School Night 7:00 pm in the sanctua
 ry.</p>\n<p>&nbsp\;</p>
END:VEVENT
END:VCALENDAR
