BEGIN:VCALENDAR
VERSION:2.0
PRODID:-//https://denbighchristianacademy.com//NONSGML kigkonsult.se iCalcr
 eator 2.29.29//
CALSCALE:GREGORIAN
METHOD:PUBLISH
UID:4ada078f-2b43-4f5e-9f06-ede4d3efe3e5
X-WR-CALNAME:JCal Pro Calendar
X-WR-CALDESC:Your online events calendar
X-WR-TIMEZONE:UTC
BEGIN:VTIMEZONE
TZID:UTC
END:VTIMEZONE
BEGIN:VEVENT
UID:20211216T193000UTC-0477gTxCVj@http://www.denbighchristianacademy.com/
DTSTAMP:20260425T172235Z
CATEGORIES:DCA Events
DESCRIPTION:<p>DCA Christmas Program is cancelled.</p>
DTSTART:20211216T193000Z
DTEND:20211216T203000Z
SUMMARY:DCA Christmas Program is cancelled
URL:https://denbighchristianacademy.com/index.php/school-calendar/dca-event
 s/11-dca-events/652-dca-christmas-program-7-30-pm
X-ALT-DESC;FMTTYPE=TEXT/HTML:<p>DCA Christmas Program is cancelled.</p>
END:VEVENT
BEGIN:VEVENT
UID:20211217T060000UTC-4678PH1pSn@http://www.denbighchristianacademy.com/
DTSTAMP:20260425T172235Z
CATEGORIES:DCA Events
DESCRIPTION:<p>Second Interim Period ends today for 4K &amp\; 5K.</p>
DTSTART:20211217T000000Z
DTEND:20211217T235959Z
SUMMARY:2nd Interim Period ends (4k-5K)
URL:https://denbighchristianacademy.com/index.php/school-calendar/dca-event
 s/11-dca-events/653-2nd-interim-period-ends-4k-5k
X-ALT-DESC;FMTTYPE=TEXT/HTML:<p>Second Interim Period ends today for 4K &am
 p\; 5K.</p>
END:VEVENT
BEGIN:VEVENT
UID:20211217T060000UTC-0892Zgvigz@http://www.denbighchristianacademy.com/
DTSTAMP:20260425T172235Z
CATEGORIES:DCA Events
DESCRIPTION:<p>Red and Green Day. Students and staff can wear red and green
  colors today.</p>
DTSTART:20211217T000000Z
DTEND:20211217T235959Z
SUMMARY:Red & Green Day
URL:https://denbighchristianacademy.com/index.php/school-calendar/dca-event
 s/11-dca-events/654-red-green-day
X-ALT-DESC;FMTTYPE=TEXT/HTML:<p>Red and Green Day. Students and staff can w
 ear red and green colors today.</p>
END:VEVENT
BEGIN:VEVENT
UID:20211221T060000UTC-2970EPaAIj@http://www.denbighchristianacademy.com/
DTSTAMP:20260425T172235Z
CATEGORIES:DCA Events
DESCRIPTION:<p>Second Interim Reports go home today for 4K and 5K.</p>
DTSTART:20211221T000000Z
DTEND:20211221T235959Z
SUMMARY:2nd Interim Reports issued (4K-5K)
URL:https://denbighchristianacademy.com/index.php/school-calendar/dca-event
 s/11-dca-events/655-2nd-interim-reports-issued-4k-5k
X-ALT-DESC;FMTTYPE=TEXT/HTML:<p>Second Interim Reports go home today for 4K
  and 5K.</p>
END:VEVENT
BEGIN:VEVENT
UID:20211223T060000UTC-09230UZXWV@http://www.denbighchristianacademy.com/
DTSTAMP:20260425T172235Z
CATEGORIES:DCA Events
DESCRIPTION:<p>Christmas Holiday. All of DCA will be CLOSED December 23 - 3
 1\, 2021.&nbsp\;<br />DCA will re-open Monday\, January 3\, 2022.</p>
DTSTART:20211223T060000Z
DTEND:20211231T180000Z
SUMMARY:Christmas Holiday - All of DCA CLOSED
URL:https://denbighchristianacademy.com/index.php/school-calendar/dca-event
 s/11-dca-events/656-christmas-holiday-all-of-dca-closed
X-ALT-DESC;FMTTYPE=TEXT/HTML:<p>Christmas Holiday. All of DCA will be CLOSE
 D December 23 - 31\, 2021.&nbsp\;<br />DCA will re-open Monday\, January 3
 \, 2022.</p>
END:VEVENT
END:VCALENDAR
