BEGIN:VCALENDAR
VERSION:2.0
PRODID:-//https://denbighchristianacademy.com//NONSGML kigkonsult.se iCalcr
 eator 2.29.29//
CALSCALE:GREGORIAN
METHOD:PUBLISH
UID:7b08a315-8380-4672-a7f8-0fa0b3387aec
X-WR-CALNAME:JCal Pro Calendar
X-WR-CALDESC:Your online events calendar
X-WR-TIMEZONE:UTC
BEGIN:VTIMEZONE
TZID:UTC
END:VTIMEZONE
BEGIN:VEVENT
UID:20220401T190000UTC-5026eS1f0e@http://www.denbighchristianacademy.com/
DTSTAMP:20260425T120514Z
CATEGORIES:DCA Events
DESCRIPTION:<p>The Third Marking Period for 4K and 5K ends today.</p>
DTSTART:20220401T000000Z
DTEND:20220401T235959Z
SUMMARY:3rd Marking Period ends (4K-5K)
URL:https://denbighchristianacademy.com/index.php/school-calendar/dca-event
 s/11-dca-events/689-3rd-marking-period-ends-4k-5k
X-ALT-DESC;FMTTYPE=TEXT/HTML:<p>The Third Marking Period for 4K and 5K ends
  today.</p>
END:VEVENT
BEGIN:VEVENT
UID:20220404T060000UTC-8699r2toVv@http://www.denbighchristianacademy.com/
DTSTAMP:20260425T120514Z
CATEGORIES:DCA Events
DESCRIPTION:<p>4K and 5K classes are closed this week for Spring Break. Chi
 ldcare and Preschool remain open.</p>
DTSTART:20220404T060000Z
DTEND:20220408T180000Z
SUMMARY:Spring Break (4K-5K) Closed. Preschool & Childcare Open.
URL:https://denbighchristianacademy.com/index.php/school-calendar/dca-event
 s/11-dca-events/690-spring-break-4k-5k-closed-preschool-childcare-open
X-ALT-DESC;FMTTYPE=TEXT/HTML:<p>4K and 5K classes are closed this week for 
 Spring Break. Childcare and Preschool remain open.</p>
END:VEVENT
BEGIN:VEVENT
UID:20220413T190000UTC-7224dEZaxT@http://www.denbighchristianacademy.com/
DTSTAMP:20260425T120514Z
CATEGORIES:DCA Events
DESCRIPTION:<p>4K and 5K Third Marking Period Reports go home today.</p>
DTSTART:20220413T000000Z
DTEND:20220413T235959Z
SUMMARY:3rd Marking Period Reports issued (4K-5K)
URL:https://denbighchristianacademy.com/index.php/school-calendar/dca-event
 s/11-dca-events/691-3rd-marking-period-reports-issued-4k-5k
X-ALT-DESC;FMTTYPE=TEXT/HTML:<p>4K and 5K Third Marking Period Reports go h
 ome today.</p>
END:VEVENT
BEGIN:VEVENT
UID:20220418T060000UTC-65132BHgtX@http://www.denbighchristianacademy.com/
DTSTAMP:20260425T120514Z
CATEGORIES:DCA Events
DESCRIPTION:<p>All of DCA is closed today for Resurrection Monday.</p>
DTSTART:20220418T000000Z
DTEND:20220418T235959Z
SUMMARY:Resurrection Monday - All of DCA CLOSED
URL:https://denbighchristianacademy.com/index.php/school-calendar/dca-event
 s/11-dca-events/692-resurrection-monday-all-of-dca-closed
X-ALT-DESC;FMTTYPE=TEXT/HTML:<p>All of DCA is closed today for Resurrection
  Monday.</p>
END:VEVENT
BEGIN:VEVENT
UID:20220419T083000UTC-3268UVgTVo@http://www.denbighchristianacademy.com/
DTSTAMP:20260425T120514Z
CATEGORIES:DCA Events
DESCRIPTION:<p>Spring pictures will be taken today for the 2 and 2 1/2 year
  olds beginning at 8:30 a.m.</p>
DTSTART:20220419T083000Z
DTEND:20220419T083000Z
SUMMARY:2 - 2 1/2 Year Preschool Spring Pictures
URL:https://denbighchristianacademy.com/index.php/school-calendar/dca-event
 s/11-dca-events/693-2-2-1-2-year-preschool-spring-pictures
X-ALT-DESC;FMTTYPE=TEXT/HTML:<p>Spring pictures will be taken today for the
  2 and 2 1/2 year olds beginning at 8:30 a.m.</p>
END:VEVENT
BEGIN:VEVENT
UID:20220420T083000UTC-1621tABRVi@http://www.denbighchristianacademy.com/
DTSTAMP:20260425T120514Z
CATEGORIES:DCA Events
DESCRIPTION:<p>Three year olds will have their spring pictures taken today 
 beginning at 8:30 a.m.</p>
DTSTART:20220420T083000Z
DTEND:20220420T083000Z
SUMMARY:3 Year Spring Pictures
URL:https://denbighchristianacademy.com/index.php/school-calendar/dca-event
 s/11-dca-events/745-3-year-spring-pictures
X-ALT-DESC;FMTTYPE=TEXT/HTML:<p>Three year olds will have their spring pict
 ures taken today beginning at 8:30 a.m.</p>
END:VEVENT
BEGIN:VEVENT
UID:20220421T170000UTC-1035pegegu@http://www.denbighchristianacademy.com/
DTSTAMP:20260425T120514Z
CATEGORIES:DCA Events
DESCRIPTION:<p>4K and 5K spring pictures begin at 8:30 am today.</p>
DTSTART:20220421T083000Z
DTEND:20220421T083000Z
SUMMARY:4K & 5K Spring Pictures
URL:https://denbighchristianacademy.com/index.php/school-calendar/dca-event
 s/11-dca-events/746-4k-5k-spring-pictures
X-ALT-DESC;FMTTYPE=TEXT/HTML:<p>4K and 5K spring pictures begin at 8:30 am 
 today.</p>
END:VEVENT
BEGIN:VEVENT
UID:20220422T170000UTC-9456UC6GCw@http://www.denbighchristianacademy.com/
DTSTAMP:20260425T120514Z
CATEGORIES:DCA Events
DESCRIPTION:<p>Students can wear pajamas to school today.&nbsp\;</p>
DTSTART:20220422T000000Z
DTEND:20220422T235959Z
SUMMARY:Pajama Day
URL:https://denbighchristianacademy.com/index.php/school-calendar/dca-event
 s/11-dca-events/747-pajama-day
X-ALT-DESC;FMTTYPE=TEXT/HTML:<p>Students can wear pajamas to school today.&
 nbsp\;</p>
END:VEVENT
BEGIN:VEVENT
UID:20220428T170000UTC-3028sgUCL2@http://www.denbighchristianacademy.com/
DTSTAMP:20260425T120514Z
CATEGORIES:DCA Events
DTSTART:20220428T100000Z
DTEND:20220428T113000Z
SUMMARY:Grandparent's Day
URL:https://denbighchristianacademy.com/index.php/school-calendar/dca-event
 s/11-dca-events/748-grandparent-s-day-is-cancelled
END:VEVENT
END:VCALENDAR
