BEGIN:VCALENDAR
VERSION:2.0
PRODID:-//https://denbighchristianacademy.com//NONSGML kigkonsult.se iCalcr
 eator 2.29.29//
CALSCALE:GREGORIAN
METHOD:PUBLISH
UID:79c6734d-67d4-4068-be7b-f9f241560421
X-WR-CALNAME:JCal Pro Calendar
X-WR-CALDESC:Your online events calendar
X-WR-TIMEZONE:UTC
BEGIN:VTIMEZONE
TZID:UTC
END:VTIMEZONE
BEGIN:VEVENT
UID:20220502T060000UTC-13329tNxzD@http://www.denbighchristianacademy.com/
DTSTAMP:20260425T132419Z
CATEGORIES:DCA Events
DESCRIPTION:<p>This week is Teacher Appreciation week. We will send home a 
 request for desserts or side dishes for that week with a day specified.</p
 >
DTSTART:20220502T060000Z
DTEND:20220506T180000Z
SUMMARY:National Teacher Appreciation Week
URL:https://denbighchristianacademy.com/index.php/school-calendar/dca-event
 s/11-dca-events/749-national-teacher-appreciation-week
X-ALT-DESC;FMTTYPE=TEXT/HTML:<p>This week is Teacher Appreciation week. We 
 will send home a request for desserts or side dishes for that week with a 
 day specified.</p>
END:VEVENT
BEGIN:VEVENT
UID:20220513T060000UTC-8196ZD74Fg@http://www.denbighchristianacademy.com/
DTSTAMP:20260425T132419Z
CATEGORIES:DCA Events
DESCRIPTION:<p>The fourth interim period for 4K and 5K ends today. Reports 
 will go home on May 18th.</p>
DTSTART:20220513T000000Z
DTEND:20220513T235959Z
SUMMARY:4th Interim Period ends (4K & 5K)
URL:https://denbighchristianacademy.com/index.php/school-calendar/dca-event
 s/11-dca-events/750-4th-interim-period-ends-4k-5k
X-ALT-DESC;FMTTYPE=TEXT/HTML:<p>The fourth interim period for 4K and 5K end
 s today. Reports will go home on May 18th.</p>
END:VEVENT
BEGIN:VEVENT
UID:20220518T060000UTC-7107uGIVWh@http://www.denbighchristianacademy.com/
DTSTAMP:20260425T132419Z
CATEGORIES:DCA Events
DESCRIPTION:<p>Fourth Interim Reposrts will go home today with 4K and 5K. P
 lease sign and return tomorrow.</p>
DTSTART:20220518T000000Z
DTEND:20220518T235959Z
SUMMARY:4th Interim Reports issued for 4K & 5K
URL:https://denbighchristianacademy.com/index.php/school-calendar/dca-event
 s/11-dca-events/751-4th-interim-reports-issued-for-4k-5k
X-ALT-DESC;FMTTYPE=TEXT/HTML:<p>Fourth Interim Reposrts will go home today 
 with 4K and 5K. Please sign and return tomorrow.</p>
END:VEVENT
BEGIN:VEVENT
UID:20220520T060000UTC-7859X7mDjK@http://www.denbighchristianacademy.com/
DTSTAMP:20260425T132419Z
CATEGORIES:DCA Events
DESCRIPTION:<p>Wear crazy or mismatched socks today for fun.</p>
DTSTART:20220520T000000Z
DTEND:20220520T235959Z
SUMMARY:Crazy Sock Day
URL:https://denbighchristianacademy.com/index.php/school-calendar/dca-event
 s/11-dca-events/752-crazy-sock-day
X-ALT-DESC;FMTTYPE=TEXT/HTML:<p>Wear crazy or mismatched socks today for fu
 n.</p>
END:VEVENT
BEGIN:VEVENT
UID:20220527T090000UTC-2067UDUzrj@http://www.denbighchristianacademy.com/
DTSTAMP:20260425T132419Z
CATEGORIES:DCA Events
DESCRIPTION:<p>Family Fun Day is cancelled due to weather and the field bei
 ng so wet.</p>
DTSTART:20220527T100000Z
DTEND:20220527T120000Z
SUMMARY:Family Fun Day Cancelled
URL:https://denbighchristianacademy.com/index.php/school-calendar/dca-event
 s/11-dca-events/753-field-day-cancelled
X-ALT-DESC;FMTTYPE=TEXT/HTML:<p>Family Fun Day is cancelled due to weather 
 and the field being so wet.</p>
END:VEVENT
BEGIN:VEVENT
UID:20220530T060000UTC-0671CivoUv@http://www.denbighchristianacademy.com/
DTSTAMP:20260425T132419Z
CATEGORIES:DCA Events
DESCRIPTION:<p>DCA is CLOSED for Memorial Day.</p>
DTSTART:20220530T000000Z
DTEND:20220530T235959Z
SUMMARY:Memorial Day - DCA CLOSED
URL:https://denbighchristianacademy.com/index.php/school-calendar/dca-event
 s/11-dca-events/754-memorial-day-dca-closed
X-ALT-DESC;FMTTYPE=TEXT/HTML:<p>DCA is CLOSED for Memorial Day.</p>
END:VEVENT
END:VCALENDAR
